BEGIN:VCALENDAR
VERSION:2.0
PRODID:-//IIMA Calendar - ECPv4.0.2//NONSGML v1.0//EN
CALSCALE:GREGORIAN
METHOD:PUBLISH
X-WR-CALNAME:IIMA Calendar
X-ORIGINAL-URL:https://web.iima.ac.in/calendar
X-WR-CALDESC:Events for IIMA Calendar
BEGIN:VEVENT
DTSTART;VALUE=DATE:20200403
DTEND;VALUE=DATE:20200405
DTSTAMP:20260424T075437
CREATED:20170911
LAST-MODIFIED:20200107
UID:149-1585852200-1586111399@web.iima.ac.in
SUMMARY:IIMA Research Workshop Series
DESCRIPTION:IIM Ahmedabad's Research Workshop Series\nIIM Ahmedabad launches Research Workshop Series across India. The workshops will provide an opportunity for researchers (faculty\, PhD students) across India to meet\, interact and learn basics of conducting high-quality research from experts.\nThe Vision and Mission of the workshops are:\n\nVision: \n\nTo develop research capability among faculty for Management education in India\n\nMission:\n\n\tTo provide education on research methods and data analysis for doctoral students\, professionals and faculty at various stages of their careers;\n\tTo train doctoral students and faculty to conduct better management research; and\n\tTo create a consciousness of quality and rigor in management research happening in India.\n\nMode of Operation:\n\n\tIIM Ahmedabad will partner with institutes across India to conduct â€˜Research-focused' workshops on an ongoing basis.\n\tThe workshops will happen three times a year at each city.\n\tThe workshops will be of 2-3 days duration and will be held over the weekend.\n\n \n\n\tIIM Ahmedabad\n\n- April 3-5\, 2020\n \n\nChapters:\n\n\tWest: Mumbai\n\n- December 8-9\, 2018\n- November 24-25\, 2017\n\n\n\tSouth: Tumkur\n\n- June 1-3\, 2018\n- December 9-10\, 2017\n\n\tNorth: Dehradun\n\n- April 28-29\, 2018\n\n\n\tVaranasi\n\n- May 18-19\, 2018\n\n\n.tribe-events-schedule h2{display:none;}\n.single-tribe_events .tribe-events-event-meta{display:none;}\n.social_sharing{margin-bottom: 200px;}\n
URL:https://web.iima.ac.in/calendar/event/iima-research-workshop-series/
LOCATION:Indian Institute of Management Ahmedabad\, Vastrapur\, Ahmedabad\, Ahmedabad\, Gujarat\, 380015\, India
ORGANIZER;CN="Prof.%20Vishal%20Gupta":MAILTO:vishal@iima.ac.in
END:VEVENT
END:VCALENDAR