BEGIN:VCALENDAR
VERSION:2.0
PRODID:-//IIMA Calendar - ECPv4.0.2//NONSGML v1.0//EN
CALSCALE:GREGORIAN
METHOD:PUBLISH
X-WR-CALNAME:IIMA Calendar
X-ORIGINAL-URL:https://web.iima.ac.in/calendar
X-WR-CALDESC:Events for IIMA Calendar
BEGIN:VEVENT
DTSTART;VALUE=DATE:20180112
DTEND;VALUE=DATE:20180112
DTSTAMP:20260424T093929
CREATED:20171016
LAST-MODIFIED:20180102
UID:151-1515695400-1515781799@web.iima.ac.in
SUMMARY:Announcement : Conference on Gold and Gold Markets\, 2018 by IGPC@ IIMA
DESCRIPTION:About the Conference on Gold and Gold Markets\n\nIndia Gold Policy Center (IGPC) at IIMA will host a Conference on policy-relevant research on gold related issues on January 12\, 2018. The Conference will focus on a range of topics\, from motives of households to invest in gold\, the structure of gold markets\, to macroeconomic policies relating to gold. The Conference will facilitate interaction among academia\, policy makers\, and other key stakeholders.\n\nFor more information visit: https://www.iima.ac.in/web/areas-and-centres/research-centers/igpc
URL:https://web.iima.ac.in/calendar/event/announcement-conference-on-gold-and-gold-markets-2018-by-igpc-iima/
LOCATION:Indian Institute of Management Ahmedabad\, Vastrapur\, Ahmedabad\, Ahmedabad\, Gujarat\, 380015\, India
END:VEVENT
END:VCALENDAR