BEGIN:VCALENDAR
VERSION:2.0
PRODID:-//IIMA Calendar - ECPv4.0.2//NONSGML v1.0//EN
CALSCALE:GREGORIAN
METHOD:PUBLISH
X-WR-CALNAME:IIMA Calendar
X-ORIGINAL-URL:https://web.iima.ac.in/calendar
X-WR-CALDESC:Events for IIMA Calendar
BEGIN:VEVENT
DTSTART;VALUE=DATE:20211213
DTEND;VALUE=DATE:20211215
DTSTAMP:20260423T222329
CREATED:20210519
LAST-MODIFIED:20210528
UID:255-1639333800-1639592999@web.iima.ac.in
SUMMARY:9th INFORMS Transportation Science and Logistics Society Workshop (Virtual)
DESCRIPTION:The 9th INFORMS Transportation Science and Logistics Society Workshop will be held virtually at IIM Ahmedabad during December 13-15\, 2021. The theme of the workshop this year is "E-Commerce in an Emerging World".\n\nAbout the Theme:\n\nE-commerce is on a growth phase with many innovations in logistics delivery. New business models are evolving and research interests in this field are growing. New models are required to reduce delivery costs and maintain sharp delivery windows\, especially with respect to grocery distribution. The rapidly growing e-commerce industry is expected to reach US$200 billion by 2026\, necessitating a robust support in infrastructure including logistics capabilities. Logistics are quickly emerging as the biggest challenge in e-tailing\, while simultaneously being the key differentiator considering the stiff competition between domestic and international players.\nFor e-commerce to function efficiently\, it is necessary to have a consistent logistics system that will provide support through warehousing\, inventory\, delivery\, invoicing\, handling cash-on-delivery and product-returns. The role of logistics in e-commerce is to reduce the risk that arises from the virtual relations. Additionally\, E-commerce logistics needs to reduce the risk in the relationship between the seller and the customer by ensuring that the right product is delivered to the right customer\, at the right place and at the right time. Moreover\, unlike brick and mortar stores where delivery is immediate\, e-commerce firms are still grappling with the challenge of the speed with which the ordered product reaches the customer. Logistics stand to play a key role in overcoming such disadvantages\, enabling e-tailers to further grow and expand.\nIn this context\, we invite contributions on the above issues. Possible topics (though not limited to) are:\n\n\tLast-mile Logistics\n\tSharing Economy in Last-mile Delivery\n\tDesign of Omnichannel Distribution Models\n\tUrban Distribution Systems\n\tLogistics 4.0 (IoTs\, autonomous vehicles\, drones)\n\tDynamic Delivery Pricing\, Dynamic Delivery Systems\, and Crowdshipping\n\tEfficient and scalable Sortation and Package Handling\n\tIntegration of Public and Freight Transportation\n\tManpower Planning and Productivity\n\tTransportation Scheduling\n\tNetwork Topology and Hub Location Planning\n\tReal-time Planning and Orchestration of Shipments\n\nFor more details : Click here to visit Website\n\n.tribe-events-desc ul{padding-left: 20px;}\n.tribe-events-desc ul li{margin-bottom: 0px !important;}\n
URL:https://web.iima.ac.in/calendar/event/9th-informs-transportation-science-and-logistics-society-workshop/
ORGANIZER;CN="Centre%20for%20Transportation%20and%20Logistics":MAILTO:ctl@iima.ac.in
END:VEVENT
END:VCALENDAR